BEGIN:VCALENDAR
VERSION:2.0
PRODID:-//東京都中央区の料亭なら「日本料理　銀座　いしづか」にお越しください - ECPv6.8.1//NONSGML v1.0//EN
CALSCALE:GREGORIAN
METHOD:PUBLISH
X-WR-CALNAME:東京都中央区の料亭なら「日本料理　銀座　いしづか」にお越しください
X-ORIGINAL-URL:https://ginza-ishizuka.com
X-WR-CALDESC:東京都中央区の料亭なら「日本料理　銀座　いしづか」にお越しください のイベント
REFRESH-INTERVAL;VALUE=DURATION:PT1H
X-Robots-Tag:noindex
X-PUBLISHED-TTL:PT1H
BEGIN:VTIMEZONE
TZID:Asia/Tokyo
BEGIN:STANDARD
TZOFFSETFROM:+0900
TZOFFSETTO:+0900
TZNAME:JST
DTSTART:20240101T000000
END:STANDARD
END:VTIMEZONE
BEGIN:VEVENT
DTSTART;TZID=Asia/Tokyo:20241207T120000
DTEND;TZID=Asia/Tokyo:20241207T143000
DTSTAMP:20260420T040227
CREATED:20241204T033646Z
LAST-MODIFIED:20241204T033750Z
UID:4659-1733572800-1733581800@ginza-ishizuka.com
SUMMARY:季節の料理教室 12月
DESCRIPTION:12月の献立\n\n・錦玉子蒸し・鶏つみれ西京仕立て・鰆タルタル・牛八幡山椒焼・海老芋　海老利久煮・土鍋赤飯
URL:https://ginza-ishizuka.com/event/%e5%ad%a3%e7%af%80%e3%81%ae%e6%96%99%e7%90%86%e6%95%99%e5%ae%a4-12%e6%9c%88-2/
LOCATION:日本料理　銀座　いしづか\, 中央区銀座1-13-8 ハビウル銀座5階\, 東京都\, 〒104-0061\, Japan
CATEGORIES:季節の料理教室
ATTACH;FMTTYPE=image/jpeg:https://ginza-ishizuka.com/wp-content/uploads/2024/11/70521745_663003277522498_474310305912870204_n.jpg
END:VEVENT
BEGIN:VEVENT
DTSTART;TZID=Asia/Tokyo:20241205T120000
DTEND;TZID=Asia/Tokyo:20241205T143000
DTSTAMP:20260420T040227
CREATED:20241118T100941Z
LAST-MODIFIED:20241204T033336Z
UID:4417-1733400000-1733409000@ginza-ishizuka.com
SUMMARY:季節の料理教室 12月
DESCRIPTION:12月の献立\n\n・錦玉子蒸し・鶏つみれ西京仕立て・鰆タルタル・牛八幡山椒焼・海老芋　海老利久煮・土鍋赤飯
URL:https://ginza-ishizuka.com/event/%e5%ad%a3%e7%af%80%e3%81%ae%e6%96%99%e7%90%86%e6%95%99%e5%ae%a4-12%e6%9c%88/
LOCATION:日本料理　銀座　いしづか\, 中央区銀座1-13-8 ハビウル銀座5階\, 東京都\, 〒104-0061\, Japan
CATEGORIES:季節の料理教室
ATTACH;FMTTYPE=image/jpeg:https://ginza-ishizuka.com/wp-content/uploads/2024/11/3f9d416c9ac8475ba1cbe28aeaafa7eb.jpg
END:VEVENT
END:VCALENDAR