BEGIN:VCALENDAR
VERSION:2.0
PRODID:-//東京都中央区の料亭なら「日本料理　銀座　いしづか」にお越しください - ECPv6.8.1//NONSGML v1.0//EN
CALSCALE:GREGORIAN
METHOD:PUBLISH
X-WR-CALNAME:東京都中央区の料亭なら「日本料理　銀座　いしづか」にお越しください
X-ORIGINAL-URL:https://ginza-ishizuka.com
X-WR-CALDESC:東京都中央区の料亭なら「日本料理　銀座　いしづか」にお越しください のイベント
REFRESH-INTERVAL;VALUE=DURATION:PT1H
X-Robots-Tag:noindex
X-PUBLISHED-TTL:PT1H
BEGIN:VTIMEZONE
TZID:Asia/Tokyo
BEGIN:STANDARD
TZOFFSETFROM:+0900
TZOFFSETTO:+0900
TZNAME:JST
DTSTART:20250101T000000
END:STANDARD
END:VTIMEZONE
BEGIN:VEVENT
DTSTART;TZID=Asia/Tokyo:20250109T120000
DTEND;TZID=Asia/Tokyo:20250109T143000
DTSTAMP:20260420T014437
CREATED:20241204T032508Z
LAST-MODIFIED:20250114T121223Z
UID:4641-1736424000-1736433000@ginza-ishizuka.com
SUMMARY:季節の料理教室 1月
DESCRIPTION:・蕪レタス　おひたし・ふきのとう牡蠣　オイル煮（NGの方は鯛で対応いたします）・大根海老丸　仕立て・鰆　煮付け　豆富　牛蒡　絹さや・白飯 \n\n\n\n調味料等お土産お申し付けください。尚エコバック等持参頂ければ幸いです。
URL:https://ginza-ishizuka.com/event/%e5%ad%a3%e7%af%80%e3%81%ae%e6%96%99%e7%90%86%e6%95%99%e5%ae%a4-1%e6%9c%88/
LOCATION:日本料理　銀座　いしづか\, 中央区銀座1-13-8 ハビウル銀座5階\, 東京都\, 〒104-0061\, Japan
CATEGORIES:季節の料理教室
ATTACH;FMTTYPE=image/jpeg:https://ginza-ishizuka.com/wp-content/uploads/2024/11/69148572_161302595055057_8602732717194952562_n.jpg
ORGANIZER;CN="%E6%97%A5%E6%9C%AC%E6%96%99%E7%90%86%E3%80%80%E9%8A%80%E5%BA%A7%E3%80%80%E3%81%84%E3%81%97%E3%81%A5%E3%81%8B":MAILTO:ginza.ishizuka.1138@gmail.com
END:VEVENT
END:VCALENDAR