BEGIN:VCALENDAR
VERSION:2.0
PRODID:-//東京都中央区の料亭なら「日本料理　銀座　いしづか」にお越しください - ECPv6.8.1//NONSGML v1.0//EN
CALSCALE:GREGORIAN
METHOD:PUBLISH
X-WR-CALNAME:東京都中央区の料亭なら「日本料理　銀座　いしづか」にお越しください
X-ORIGINAL-URL:https://ginza-ishizuka.com
X-WR-CALDESC:東京都中央区の料亭なら「日本料理　銀座　いしづか」にお越しください のイベント
REFRESH-INTERVAL;VALUE=DURATION:PT1H
X-Robots-Tag:noindex
X-PUBLISHED-TTL:PT1H
BEGIN:VTIMEZONE
TZID:Asia/Tokyo
BEGIN:STANDARD
TZOFFSETFROM:+0900
TZOFFSETTO:+0900
TZNAME:JST
DTSTART:20250101T000000
END:STANDARD
END:VTIMEZONE
BEGIN:VEVENT
DTSTART;TZID=Asia/Tokyo:20250306T120000
DTEND;TZID=Asia/Tokyo:20250306T143000
DTSTAMP:20260423T194035
CREATED:20250114T121736Z
LAST-MODIFIED:20250114T121856Z
UID:4697-1741262400-1741271400@ginza-ishizuka.com
SUMMARY:季節の料理教室 3月
DESCRIPTION:調味料等お土産お申し付けください。尚エコバック等持参頂ければ幸いです
URL:https://ginza-ishizuka.com/event/%e5%ad%a3%e7%af%80%e3%81%ae%e6%96%99%e7%90%86%e6%95%99%e5%ae%a4-3%e6%9c%88/
LOCATION:日本料理　銀座　いしづか\, 中央区銀座1-13-8 ハビウル銀座5階\, 東京都\, 〒104-0061\, Japan
CATEGORIES:季節の料理教室
ATTACH;FMTTYPE=image/jpeg:https://ginza-ishizuka.com/wp-content/uploads/2024/11/69148572_161302595055057_8602732717194952562_n.jpg
ORGANIZER;CN="%E6%97%A5%E6%9C%AC%E6%96%99%E7%90%86%E3%80%80%E9%8A%80%E5%BA%A7%E3%80%80%E3%81%84%E3%81%97%E3%81%A5%E3%81%8B":MAILTO:ginza.ishizuka.1138@gmail.com
END:VEVENT
BEGIN:VEVENT
DTSTART;TZID=Asia/Tokyo:20250308T120000
DTEND;TZID=Asia/Tokyo:20250308T143000
DTSTAMP:20260423T194035
CREATED:20250114T120142Z
LAST-MODIFIED:20250114T122055Z
UID:4698-1741435200-1741444200@ginza-ishizuka.com
SUMMARY:季節の料理教室 3月
DESCRIPTION:調味料等お土産お申し付けください。尚エコバック等持参頂ければ幸いです
URL:https://ginza-ishizuka.com/event/%e5%ad%a3%e7%af%80%e3%81%ae%e6%96%99%e7%90%86%e6%95%99%e5%ae%a4-3%e6%9c%88-2/
LOCATION:日本料理　銀座　いしづか\, 中央区銀座1-13-8 ハビウル銀座5階\, 東京都\, 〒104-0061\, Japan
CATEGORIES:季節の料理教室
ATTACH;FMTTYPE=image/jpeg:https://ginza-ishizuka.com/wp-content/uploads/2024/11/69268816_166014071196693_5858347037848942871_n.jpg
ORGANIZER;CN="%E6%97%A5%E6%9C%AC%E6%96%99%E7%90%86%E3%80%80%E9%8A%80%E5%BA%A7%E3%80%80%E3%81%84%E3%81%97%E3%81%A5%E3%81%8B":MAILTO:ginza.ishizuka.1138@gmail.com
END:VEVENT
BEGIN:VEVENT
DTSTART;TZID=Asia/Tokyo:20250312T120000
DTEND;TZID=Asia/Tokyo:20250312T143000
DTSTAMP:20260423T194035
CREATED:20250114T121748Z
LAST-MODIFIED:20250114T122108Z
UID:4699-1741780800-1741789800@ginza-ishizuka.com
SUMMARY:季節の料理教室 3月
DESCRIPTION:調味料等お土産お申し付けください。尚エコバック等持参頂ければ幸いです
URL:https://ginza-ishizuka.com/event/%e5%ad%a3%e7%af%80%e3%81%ae%e6%96%99%e7%90%86%e6%95%99%e5%ae%a4-3%e6%9c%88-3/
LOCATION:日本料理　銀座　いしづか\, 中央区銀座1-13-8 ハビウル銀座5階\, 東京都\, 〒104-0061\, Japan
CATEGORIES:季節の料理教室
ATTACH;FMTTYPE=image/jpeg:https://ginza-ishizuka.com/wp-content/uploads/2024/11/70521745_663003277522498_474310305912870204_n.jpg
ORGANIZER;CN="%E6%97%A5%E6%9C%AC%E6%96%99%E7%90%86%E3%80%80%E9%8A%80%E5%BA%A7%E3%80%80%E3%81%84%E3%81%97%E3%81%A5%E3%81%8B":MAILTO:ginza.ishizuka.1138@gmail.com
END:VEVENT
BEGIN:VEVENT
DTSTART;TZID=Asia/Tokyo:20250313T120000
DTEND;TZID=Asia/Tokyo:20250313T143000
DTSTAMP:20260423T194035
CREATED:20250114T121751Z
LAST-MODIFIED:20250114T122120Z
UID:4700-1741867200-1741876200@ginza-ishizuka.com
SUMMARY:季節の料理教室 3月
DESCRIPTION:調味料等お土産お申し付けください。尚エコバック等持参頂ければ幸いです
URL:https://ginza-ishizuka.com/event/%e5%ad%a3%e7%af%80%e3%81%ae%e6%96%99%e7%90%86%e6%95%99%e5%ae%a4-3%e6%9c%88-4/
LOCATION:日本料理　銀座　いしづか\, 中央区銀座1-13-8 ハビウル銀座5階\, 東京都\, 〒104-0061\, Japan
CATEGORIES:季節の料理教室
ATTACH;FMTTYPE=image/jpeg:https://ginza-ishizuka.com/wp-content/uploads/2024/11/004.jpg
ORGANIZER;CN="%E6%97%A5%E6%9C%AC%E6%96%99%E7%90%86%E3%80%80%E9%8A%80%E5%BA%A7%E3%80%80%E3%81%84%E3%81%97%E3%81%A5%E3%81%8B":MAILTO:ginza.ishizuka.1138@gmail.com
END:VEVENT
BEGIN:VEVENT
DTSTART;TZID=Asia/Tokyo:20250314T120000
DTEND;TZID=Asia/Tokyo:20250314T143000
DTSTAMP:20260423T194035
CREATED:20250114T121753Z
LAST-MODIFIED:20250114T122130Z
UID:4701-1741953600-1741962600@ginza-ishizuka.com
SUMMARY:季節の料理教室 3月
DESCRIPTION:調味料等お土産お申し付けください。尚エコバック等持参頂ければ幸いです
URL:https://ginza-ishizuka.com/event/%e5%ad%a3%e7%af%80%e3%81%ae%e6%96%99%e7%90%86%e6%95%99%e5%ae%a4-3%e6%9c%88-5/
LOCATION:日本料理　銀座　いしづか\, 中央区銀座1-13-8 ハビウル銀座5階\, 東京都\, 〒104-0061\, Japan
CATEGORIES:季節の料理教室
ATTACH;FMTTYPE=image/jpeg:https://ginza-ishizuka.com/wp-content/uploads/2024/11/003.jpg
ORGANIZER;CN="%E6%97%A5%E6%9C%AC%E6%96%99%E7%90%86%E3%80%80%E9%8A%80%E5%BA%A7%E3%80%80%E3%81%84%E3%81%97%E3%81%A5%E3%81%8B":MAILTO:ginza.ishizuka.1138@gmail.com
END:VEVENT
BEGIN:VEVENT
DTSTART;TZID=Asia/Tokyo:20250315T120000
DTEND;TZID=Asia/Tokyo:20250315T143000
DTSTAMP:20260423T194035
CREATED:20250114T121755Z
LAST-MODIFIED:20250114T122140Z
UID:4702-1742040000-1742049000@ginza-ishizuka.com
SUMMARY:季節の料理教室 3月
DESCRIPTION:調味料等お土産お申し付けください。尚エコバック等持参頂ければ幸いです。
URL:https://ginza-ishizuka.com/event/%e5%ad%a3%e7%af%80%e3%81%ae%e6%96%99%e7%90%86%e6%95%99%e5%ae%a4-3%e6%9c%88-6/
LOCATION:日本料理　銀座　いしづか\, 中央区銀座1-13-8 ハビウル銀座5階\, 東京都\, 〒104-0061\, Japan
CATEGORIES:季節の料理教室
ATTACH;FMTTYPE=image/jpeg:https://ginza-ishizuka.com/wp-content/uploads/2024/11/138871082_1313862695649557_5192843237729553612_n.jpg
ORGANIZER;CN="%E6%97%A5%E6%9C%AC%E6%96%99%E7%90%86%E3%80%80%E9%8A%80%E5%BA%A7%E3%80%80%E3%81%84%E3%81%97%E3%81%A5%E3%81%8B":MAILTO:ginza.ishizuka.1138@gmail.com
END:VEVENT
END:VCALENDAR